BEGIN:VCALENDAR
VERSION:2.0
PRODID:-//wp-events-plugin.com//7.2.3.1//EN
TZID:Europe/Berlin
X-WR-TIMEZONE:Europe/Berlin
BEGIN:VEVENT
UID:155@kolping-pb-west.de
DTSTART;TZID=Europe/Berlin:20260430T190000
DTEND;TZID=Europe/Berlin:20260501T013000
DTSTAMP:20260318T182108Z
URL:https://kolping-pb-west.de/veranstaltungen/tanz-in-den-mai-4/
SUMMARY:Tanz in den Mai
DESCRIPTION:\n\n30. APRIL ab 19 Uhr\n\n\n\n\nLasst uns gemeinsam den Mai be
 grüßen und feiert mit uns - mit viel Musik\, Tanz und guter Stimmung!\n\
 n\n\n 	Maifeuer\n 	mit DJ Papi\n 	Leckereien vom Grill\n\n\n\n\n\n\n 	Eint
 ritt frei! : Wir sammeln für unsere Spendenaktionen 2026: Drachenpaten &
 amp\; Sento\n\nFlyer zum Ausdrucken und Weitergeben!\n\n\n\n\n\n\n
LOCATION:Pfarrheim St. Georg\, Neuhäuser Str. 78a\, Paderborn\, 33102\, De
 utschland
GEO:51.72445380000001;8.737209699999994
X-APPLE-STRUCTURED-LOCATION;VALUE=URI;X-ADDRESS=Neuhäuser Str. 78a\, Pader
 born\, 33102\, Deutschland;X-APPLE-RADIUS=100;X-TITLE=Pfarrheim St. Georg:
 geo:51.72445380000001,8.737209699999994
END:VEVENT
BEGIN:VTIMEZONE
TZID:Europe/Berlin
X-LIC-LOCATION:Europe/Berlin
BEGIN:DAYLIGHT
DTSTART:20260329T030000
TZOFFSETFROM:+0100
TZOFFSETTO:+0200
TZNAME:CEST
END:DAYLIGHT
END:VTIMEZONE
END:VCALENDAR