BEGIN:VCALENDAR
VERSION:2.0
PRODID:-//wp-events-plugin.com//7.2.3.1//EN
TZID:Europe/Berlin
X-WR-TIMEZONE:Europe/Berlin
BEGIN:VEVENT
UID:112@kolping-pb-west.de
DTSTART;TZID=Europe/Berlin:20230903T130000
DTEND;TZID=Europe/Berlin:20230903T171500
DTSTAMP:20230626T142609Z
URL:https://kolping-pb-west.de/veranstaltungen/passionsfestspiele-hallenbe
 rg/
SUMMARY:Passionsfestspiele Hallenberg
DESCRIPTION:Wir fahren in Fahrgemeinschaften zu Aufführung der\nHallenberg
 er Passionsfestspiele. Diese finden nur\nalle 10 Jahre statt
END:VEVENT
BEGIN:VTIMEZONE
TZID:Europe/Berlin
X-LIC-LOCATION:Europe/Berlin
BEGIN:DAYLIGHT
DTSTART:20230326T030000
TZOFFSETFROM:+0100
TZOFFSETTO:+0200
TZNAME:CEST
END:DAYLIGHT
END:VTIMEZONE
END:VCALENDAR