BEGIN:VCALENDAR
VERSION:2.0
PRODID:-//wp-events-plugin.com//7.2.3.1//EN
TZID:Europe/Berlin
X-WR-TIMEZONE:Europe/Berlin
BEGIN:VEVENT
UID:9@kolping-pb-west.de
DTSTART;TZID=Europe/Berlin:20161127T160000
DTEND;TZID=Europe/Berlin:20161127T190000
DTSTAMP:20161017T211749Z
URL:https://kolping-pb-west.de/veranstaltungen/besuch-des-bibeldorf-rietbe
 rg/
SUMMARY:Besuch des Bibeldorf Rietberg
DESCRIPTION:Herzliche Einladung zur Fahrt ins Bibeldorf Rietberg mit Besuch
  der orientalischen Weihnacht\, am Sonntag\, 27.11.2016. Das ist der orien
 talische Basar\, der dort im Advent stattfindet. Zusätzlich haben wir dor
 t eine Führung um 17.00 Uhr mit einem szenischen Anspiel zur Weihnachtsge
 schichte auf dem Weg nach Bethlehem. Dauer: ca. 50 Minuten.\n\nBei der ori
 entalischen Weihnacht verlangen die Römer am Eingang des Bibeldorfes von 
 jedem Besucher 2\,- € Wegzoll\, für alle über 1\,40 m. Für die Führu
 ng entstehen zusätzliche Kosten von 5\,- € pro Teilnehmer.\n\nDiese Akt
 ion ist gleichermaßen für Kinder und Erwachsene geeignet.\n\nWir treffen
  uns um 15.30 Uhr am Pfarrheim St. Georg (Neuhäuser Str. 78a) und bilden 
 dort Fahrgemeinschaften.  Im Bibeldorf können wir uns dann schon ein wen
 ig umsehen\, bevor die Führung beginnt.\n\nVerbindliche Anmeldungen bis z
 um 23. Oktober per Mail an info@kolping-pb-west.de 
ATTACH;FMTTYPE=image/jpeg:https://kolping-pb-west.de/wp-content/uploads/20
 16/10/Rietberg_Bibeldorf_21.jpg
LOCATION:Bibeldorf Rietberg\, Jerusalemer Str. 2\, Rietberg\, 33397\, Deuts
 chland
GEO:51.81054;8.41395
X-APPLE-STRUCTURED-LOCATION;VALUE=URI;X-ADDRESS=Jerusalemer Str. 2\, Rietbe
 rg\, 33397\, Deutschland;X-APPLE-RADIUS=100;X-TITLE=Bibeldorf Rietberg:geo
 :51.81054,8.41395
END:VEVENT
BEGIN:VTIMEZONE
TZID:Europe/Berlin
X-LIC-LOCATION:Europe/Berlin
BEGIN:STANDARD
DTSTART:20161030T020000
TZOFFSETFROM:+0200
TZOFFSETTO:+0100
TZNAME:CET
END:STANDARD
END:VTIMEZONE
END:VCALENDAR